Workbook

Sheet Budget
A1: Monthly budget
A2: Month | B2: 46266 | F2: Rule: assign until Ready to assign reads 0. Spent fills itself from the Transactions tab.
A4: Income (take-home) | B4: Expected | C4: Received
A5: Paycheck 1 | C5: =SUMIFS(Transactions!$E$2:$E$400,Transactions!$C$2:$C$400,A5)
A6: Paycheck 2 | C6: =SUMIFS(Transactions!$E$2:$E$400,Transactions!$C$2:$C$400,A6)
A7: Other income | C7: =SUMIFS(Transactions!$E$2:$E$400,Transactions!$C$2:$C$400,A7)
A8: Total income | B8: =SUM(B5:B7) | C8: =SUM(C5:C7)
A10: Bills | B10: Assigned | C10: Spent | D10: Left
A11: Rent or mortgage | C11: =SUMIFS(Transactions!$D$2:$D$400,Transactions!$C$2:$C$400,A11) | D11: =B11-C11
A12: Electric | C12: =SUMIFS(Transactions!$D$2:$D$400,Transactions!$C$2:$C$400,A12) | D12: =B12-C12
A13: Water | C13: =SUMIFS(Transactions!$D$2:$D$400,Transactions!$C$2:$C$400,A13) | D13: =B13-C13
A14: Internet | C14: =SUMIFS(Transactions!$D$2:$D$400,Transactions!$C$2:$C$400,A14) | D14: =B14-C14
A15: Phone | C15: =SUMIFS(Transactions!$D$2:$D$400,Transactions!$C$2:$C$400,A15) | D15: =B15-C15
A16: Insurance | C16: =SUMIFS(Transactions!$D$2:$D$400,Transactions!$C$2:$C$400,A16) | D16: =B16-C16
A17: Minimum debt payments | C17: =SUMIFS(Transactions!$D$2:$D$400,Transactions!$C$2:$C$400,A17) | D17: =B17-C17
C18: =IF(A18="",0,SUMIFS(Transactions!$D$2:$D$400,Transactions!$C$2:$C$400,A18)) | D18: =B18-C18
C19: =IF(A19="",0,SUMIFS(Transactions!$D$2:$D$400,Transactions!$C$2:$C$400,A19)) | D19: =B19-C19
A20: Bills total | B20: =SUM(B11:B19) | C20: =SUM(C11:C19) | D20: =SUM(D11:D19)
A22: Everyday | B22: Assigned | C22: Spent | D22: Left
A23: Groceries | C23: =SUMIFS(Transactions!$D$2:$D$400,Transactions!$C$2:$C$400,A23) | D23: =B23-C23
A24: Gas & transit | C24: =SUMIFS(Transactions!$D$2:$D$400,Transactions!$C$2:$C$400,A24) | D24: =B24-C24
A25: Eating out | C25: =SUMIFS(Transactions!$D$2:$D$400,Transactions!$C$2:$C$400,A25) | D25: =B25-C25
A26: Household | C26: =SUMIFS(Transactions!$D$2:$D$400,Transactions!$C$2:$C$400,A26) | D26: =B26-C26
A27: Personal care | C27: =SUMIFS(Transactions!$D$2:$D$400,Transactions!$C$2:$C$400,A27) | D27: =B27-C27
C28: =IF(A28="",0,SUMIFS(Transactions!$D$2:$D$400,Transactions!$C$2:$C$400,A28)) | D28: =B28-C28
C29: =IF(A29="",0,SUMIFS(Transactions!$D$2:$D$400,Transactions!$C$2:$C$400,A29)) | D29: =B29-C29
A30: Everyday total | B30: =SUM(B23:B29) | C30: =SUM(C23:C29) | D30: =SUM(D23:D29)
A32: Subscriptions | B32: Assigned | C32: Spent | D32: Left
A33: Streaming | C33: =SUMIFS(Transactions!$D$2:$D$400,Transactions!$C$2:$C$400,A33) | D33: =B33-C33
A34: Software | C34: =SUMIFS(Transactions!$D$2:$D$400,Transactions!$C$2:$C$400,A34) | D34: =B34-C34
A35: Memberships | C35: =SUMIFS(Transactions!$D$2:$D$400,Transactions!$C$2:$C$400,A35) | D35: =B35-C35
C36: =IF(A36="",0,SUMIFS(Transactions!$D$2:$D$400,Transactions!$C$2:$C$400,A36)) | D36: =B36-C36
C37: =IF(A37="",0,SUMIFS(Transactions!$D$2:$D$400,Transactions!$C$2:$C$400,A37)) | D37: =B37-C37
A38: Subscriptions total | B38: =SUM(B33:B37) | C38: =SUM(C33:C37) | D38: =SUM(D33:D37)
A40: Sinking funds & goals | B40: Assigned | C40: Spent | D40: Left
A41: Emergency fund | C41: =SUMIFS(Transactions!$D$2:$D$400,Transactions!$C$2:$C$400,A41) | D41: =B41-C41
A42: Car repairs | C42: =SUMIFS(Transactions!$D$2:$D$400,Transactions!$C$2:$C$400,A42) | D42: =B42-C42
A43: Holidays & gifts | C43: =SUMIFS(Transactions!$D$2:$D$400,Transactions!$C$2:$C$400,A43) | D43: =B43-C43
A44: Vacation | C44: =SUMIFS(Transactions!$D$2:$D$400,Transactions!$C$2:$C$400,A44) | D44: =B44-C44
A45: Medical | C45: =SUMIFS(Transactions!$D$2:$D$400,Transactions!$C$2:$C$400,A45) | D45: =B45-C45
...

Sheet Transactions
A1: Date | B1: Payee | C1: Category | D1: Outflow | E1: Inflow | F1: Note
A2: 46272.632 | B2: Example: Kroger | C2: Groceries | D2: 84.12 | F2: Delete these three example rows
A3: 46272.632 | B3: Example: Netflix | C3: Streaming | D3: 15.49
A4: 46272.632 | B4: Example: Paycheck | C4: Paycheck 1 | E4: 2100 | F4: Inflows use the income lines as category

Sheet How to use
A1: Budgetfold monthly budget, zero-based
A3: 1. Budget tab: type this month's take-home pay in the yellow Expected cells at the top.
A4: 2. Assign that money to categories in the yellow Assigned cells until Ready to assign (bottom) reads 0.
A5: 3. Transactions tab: log what you spend as it happens. Pick the category from the drop-down. Spent and Left on the Budget tab fill themselves.
A6: 4. Overspent a category (Left is red)? Move money from another category. That friction is the method.
A7: 5. Next month: File → Make a copy, clear the Transactions tab, keep the Assigned column as your starting point.
A9: Rename or add categories freely on the Budget tab; the Category drop-down list lives on the hidden Lists tab (Sheets: View → Hidden sheets).
A11: When one month at a time in a spreadsheet stops being enough (rollover of unspent money, goals, two people, bank CSV import), the same layout is at https://budgetfold.com. Free for the current month.
A13: 9GG LLC · 30 N Gould St, Ste R · Sheridan, WY 82801, USA · support@budgetfold.com

Sheet Lists
A1: Paycheck 1
A2: Paycheck 2
A3: Other income
A4: Rent or mortgage
A5: Electric
A6: Water
A7: Internet
A8: Phone
A9: Insurance
A10: Minimum debt payments
A11: Groceries
A12: Gas & transit
... A25: Hobbies
